BEGIN:VCALENDAR
VERSION:2.0
PRODID:-//SV Tell Weilheim - ECPv6.15.20//NONSGML v1.0//EN
CALSCALE:GREGORIAN
METHOD:PUBLISH
X-ORIGINAL-URL:https://sv-tell-weilheim.de
X-WR-CALDESC:Veranstaltungen für SV Tell Weilheim
REFRESH-INTERVAL;VALUE=DURATION:PT1H
X-Robots-Tag:noindex
X-PUBLISHED-TTL:PT1H
BEGIN:VTIMEZONE
TZID:Europe/Berlin
BEGIN:DAYLIGHT
TZOFFSETFROM:+0100
TZOFFSETTO:+0200
TZNAME:CEST
DTSTART:20240331T010000
END:DAYLIGHT
BEGIN:STANDARD
TZOFFSETFROM:+0200
TZOFFSETTO:+0100
TZNAME:CET
DTSTART:20241027T010000
END:STANDARD
BEGIN:DAYLIGHT
TZOFFSETFROM:+0100
TZOFFSETTO:+0200
TZNAME:CEST
DTSTART:20250330T010000
END:DAYLIGHT
BEGIN:STANDARD
TZOFFSETFROM:+0200
TZOFFSETTO:+0100
TZNAME:CET
DTSTART:20251026T010000
END:STANDARD
BEGIN:DAYLIGHT
TZOFFSETFROM:+0100
TZOFFSETTO:+0200
TZNAME:CEST
DTSTART:20260329T010000
END:DAYLIGHT
BEGIN:STANDARD
TZOFFSETFROM:+0200
TZOFFSETTO:+0100
TZNAME:CET
DTSTART:20261025T010000
END:STANDARD
END:VTIMEZONE
BEGIN:VEVENT
DTSTART;TZID=Europe/Berlin:20250701T183000
DTEND;TZID=Europe/Berlin:20250701T210000
DTSTAMP:20260423T103532
CREATED:20250423T093942Z
LAST-MODIFIED:20250423T094222Z
UID:6912-1751394600-1751403600@sv-tell-weilheim.de
SUMMARY:GK2 - 5ter Rundenwettkampf
DESCRIPTION:SV Wendlingen 4 — SV Weilheim/Teck 2
URL:https://sv-tell-weilheim.de/event/gk2-5ter-rundenwettkampf/
LOCATION:Schützenhaus Wendlingen\, An den Kiesgruben 36\, Wendlingen am Neckar\, 73240\, Deutschland
CATEGORIES:RWK GK2
END:VEVENT
BEGIN:VEVENT
DTSTART;TZID=Europe/Berlin:20250718T190000
DTEND;TZID=Europe/Berlin:20250718T210000
DTSTAMP:20260423T103532
CREATED:20250323T160723Z
LAST-MODIFIED:20250323T160723Z
UID:6878-1752865200-1752872400@sv-tell-weilheim.de
SUMMARY:GK1 - 5ter Rundenwettkampf
DESCRIPTION:Weilheim 1 — Nürtingen 3
URL:https://sv-tell-weilheim.de/event/gk1-5ter-rundenwettkampf/
LOCATION:Schützenhaus Weilheim\, Birkenweg 8\, Weilheim an der Teck\, Badenwürttemberg\, 73235\, Deutschland
CATEGORIES:RWK GK1
END:VEVENT
BEGIN:VEVENT
DTSTART;TZID=Europe/Berlin:20250718T193000
DTEND;TZID=Europe/Berlin:20250718T213000
DTSTAMP:20260423T103532
CREATED:20250324T190156Z
LAST-MODIFIED:20250324T190208Z
UID:6898-1752867000-1752874200@sv-tell-weilheim.de
SUMMARY:GK3 - 5ter Rundenwettkampf
DESCRIPTION:SGi Holzmaden 2 — SV Tell Weilheim 3
URL:https://sv-tell-weilheim.de/event/gk3-5ter-rundenwettkampf/
LOCATION:Schützenhaus Holzmaden\, Wasen 2/1\, Holzmaden\, 73271\, Deutschland
CATEGORIES:RWK GK3
END:VEVENT
BEGIN:VEVENT
DTSTART;TZID=Europe/Berlin:20250729T190000
DTEND;TZID=Europe/Berlin:20250729T220000
DTSTAMP:20260423T103532
CREATED:20250323T161109Z
LAST-MODIFIED:20250323T161109Z
UID:6883-1753815600-1753826400@sv-tell-weilheim.de
SUMMARY:GK1 - 6ter Rundenwettkampf
DESCRIPTION:Wendlingen 2 — Weilheim 1
URL:https://sv-tell-weilheim.de/event/gk1-6ter-rundenwettkampf/
LOCATION:Schützenhaus Wendlingen\, An den Kiesgruben 36\, Wendlingen am Neckar\, 73240\, Deutschland
CATEGORIES:RWK GK1
END:VEVENT
END:VCALENDAR