BEGIN:VCALENDAR
VERSION:2.0
PRODID:-//SV Tell Weilheim - ECPv6.15.20//NONSGML v1.0//EN
CALSCALE:GREGORIAN
METHOD:PUBLISH
X-WR-CALNAME:SV Tell Weilheim
X-ORIGINAL-URL:https://sv-tell-weilheim.de
X-WR-CALDESC:Veranstaltungen für SV Tell Weilheim
REFRESH-INTERVAL;VALUE=DURATION:PT1H
X-Robots-Tag:noindex
X-PUBLISHED-TTL:PT1H
BEGIN:VTIMEZONE
TZID:Europe/Berlin
BEGIN:DAYLIGHT
TZOFFSETFROM:+0100
TZOFFSETTO:+0200
TZNAME:CEST
DTSTART:20240331T010000
END:DAYLIGHT
BEGIN:STANDARD
TZOFFSETFROM:+0200
TZOFFSETTO:+0100
TZNAME:CET
DTSTART:20241027T010000
END:STANDARD
BEGIN:DAYLIGHT
TZOFFSETFROM:+0100
TZOFFSETTO:+0200
TZNAME:CEST
DTSTART:20250330T010000
END:DAYLIGHT
BEGIN:STANDARD
TZOFFSETFROM:+0200
TZOFFSETTO:+0100
TZNAME:CET
DTSTART:20251026T010000
END:STANDARD
BEGIN:DAYLIGHT
TZOFFSETFROM:+0100
TZOFFSETTO:+0200
TZNAME:CEST
DTSTART:20260329T010000
END:DAYLIGHT
BEGIN:STANDARD
TZOFFSETFROM:+0200
TZOFFSETTO:+0100
TZNAME:CET
DTSTART:20261025T010000
END:STANDARD
END:VTIMEZONE
BEGIN:VEVENT
DTSTART;TZID=Europe/Berlin:20250601T093000
DTEND;TZID=Europe/Berlin:20250601T113000
DTSTAMP:20260423T121837
CREATED:20250324T190014Z
LAST-MODIFIED:20250324T190014Z
UID:6896-1748770200-1748777400@sv-tell-weilheim.de
SUMMARY:GK3 - 4ter Rundenwettkampf
DESCRIPTION:SV Oberlenningen — SV Tell Weilheim 3
URL:https://sv-tell-weilheim.de/event/gk3-4ter-rundenwettkampf/
LOCATION:Schützenhaus Oberlenningen\, Heerweg\, Lenningen\, Badenwürttemberg\, 73252
CATEGORIES:RWK GK3
END:VEVENT
BEGIN:VEVENT
DTSTART;TZID=Europe/Berlin:20250627T190000
DTEND;TZID=Europe/Berlin:20250627T210000
DTSTAMP:20260423T121837
CREATED:20250325T192457Z
LAST-MODIFIED:20250325T193544Z
UID:6910-1751050800-1751058000@sv-tell-weilheim.de
SUMMARY:GK2 - 4ter Rundenwettkampf
DESCRIPTION:SV Weilheim/Teck 2 — SV Neuffen 4
URL:https://sv-tell-weilheim.de/event/gk2-4ter-rundenwettkampf/
LOCATION:Schützenhaus Weilheim\, Birkenweg 8\, Weilheim an der Teck\, Badenwürttemberg\, 73235\, Deutschland
CATEGORIES:RWK GK2
END:VEVENT
BEGIN:VEVENT
DTSTART;TZID=Europe/Berlin:20250629T090000
DTEND;TZID=Europe/Berlin:20250629T110000
DTSTAMP:20260423T121837
CREATED:20250323T160501Z
LAST-MODIFIED:20250323T161322Z
UID:6876-1751187600-1751194800@sv-tell-weilheim.de
SUMMARY:GK1 - 4ter Rundenwettkampf
DESCRIPTION:Neuffen 3 — Weilheim 1
URL:https://sv-tell-weilheim.de/event/gk1-4ter-rundenwettkampf/
LOCATION:Schützenhaus Neuffen\, Schützenhausweg 50\, Neuffen\, Badenwürttemberg\, 72639\, Deutschland
CATEGORIES:RWK GK1
END:VEVENT
END:VCALENDAR