BEGIN:VCALENDAR
VERSION:2.0
PRODID:-//SV Tell Weilheim - ECPv6.15.20//NONSGML v1.0//EN
CALSCALE:GREGORIAN
METHOD:PUBLISH
X-WR-CALNAME:SV Tell Weilheim
X-ORIGINAL-URL:https://sv-tell-weilheim.de
X-WR-CALDESC:Veranstaltungen für SV Tell Weilheim
REFRESH-INTERVAL;VALUE=DURATION:PT1H
X-Robots-Tag:noindex
X-PUBLISHED-TTL:PT1H
BEGIN:VTIMEZONE
TZID:Europe/Berlin
BEGIN:DAYLIGHT
TZOFFSETFROM:+0100
TZOFFSETTO:+0200
TZNAME:CEST
DTSTART:20240331T010000
END:DAYLIGHT
BEGIN:STANDARD
TZOFFSETFROM:+0200
TZOFFSETTO:+0100
TZNAME:CET
DTSTART:20241027T010000
END:STANDARD
BEGIN:DAYLIGHT
TZOFFSETFROM:+0100
TZOFFSETTO:+0200
TZNAME:CEST
DTSTART:20250330T010000
END:DAYLIGHT
BEGIN:STANDARD
TZOFFSETFROM:+0200
TZOFFSETTO:+0100
TZNAME:CET
DTSTART:20251026T010000
END:STANDARD
BEGIN:DAYLIGHT
TZOFFSETFROM:+0100
TZOFFSETTO:+0200
TZNAME:CEST
DTSTART:20260329T010000
END:DAYLIGHT
BEGIN:STANDARD
TZOFFSETFROM:+0200
TZOFFSETTO:+0100
TZNAME:CET
DTSTART:20261025T010000
END:STANDARD
END:VTIMEZONE
BEGIN:VEVENT
DTSTART;TZID=Europe/Berlin:20250507T183000
DTEND;TZID=Europe/Berlin:20250507T210000
DTSTAMP:20260423T134634
CREATED:20250323T155950Z
LAST-MODIFIED:20250323T160942Z
UID:6868-1746642600-1746651600@sv-tell-weilheim.de
SUMMARY:GK1 - 2ter Rundenwettkampf
DESCRIPTION:Nürtingen 3 — Weilheim 1
URL:https://sv-tell-weilheim.de/event/gk1-2ter-rundenwettkampf/
LOCATION:Schützenhaus Nürtingen\, Roßdorfweg 9-11\, Nürtingen\, Baden-Württemberg\, 72622\, Germany
CATEGORIES:RWK GK1
END:VEVENT
BEGIN:VEVENT
DTSTART;TZID=Europe/Berlin:20250507T190000
DTEND;TZID=Europe/Berlin:20250507T210000
DTSTAMP:20260423T134634
CREATED:20250325T192202Z
LAST-MODIFIED:20250325T192349Z
UID:6906-1746644400-1746651600@sv-tell-weilheim.de
SUMMARY:GK2 - 2ter Rundenwettkampf
DESCRIPTION:SV Weilheim/Teck 2 — SV Wendlingen 4
URL:https://sv-tell-weilheim.de/event/gk2-2ter-rundenwettkampf/
LOCATION:Schützenhaus Weilheim\, Birkenweg 8\, Weilheim an der Teck\, Badenwürttemberg\, 73235\, Deutschland
CATEGORIES:RWK GK2
END:VEVENT
BEGIN:VEVENT
DTSTART;TZID=Europe/Berlin:20250509T190000
DTEND;TZID=Europe/Berlin:20250509T210000
DTSTAMP:20260423T134634
CREATED:20250324T185712Z
LAST-MODIFIED:20250324T185712Z
UID:6892-1746817200-1746824400@sv-tell-weilheim.de
SUMMARY:GK3 - 2ter Rundenwettkampf
DESCRIPTION:SV Tell Weilheim 3 — SGi Holzmaden 2
URL:https://sv-tell-weilheim.de/event/gk3-2ter-rundenwettkampf/
LOCATION:Schützenhaus Weilheim\, Birkenweg 8\, Weilheim an der Teck\, Badenwürttemberg\, 73235\, Deutschland
CATEGORIES:RWK GK3
END:VEVENT
BEGIN:VEVENT
DTSTART;TZID=Europe/Berlin:20250520T190000
DTEND;TZID=Europe/Berlin:20250520T210000
DTSTAMP:20260423T134634
CREATED:20250324T185904Z
LAST-MODIFIED:20250324T185904Z
UID:6894-1747767600-1747774800@sv-tell-weilheim.de
SUMMARY:GK3 - 3ter Rundenwettkampf
DESCRIPTION:TSV Ötlingen — SV Tell Weilheim 3
URL:https://sv-tell-weilheim.de/event/gk3-3ter-rundenwettkampf/
LOCATION:Schützenhaus Ötlingen\, Zum Rübholz 1\, Kirchheim unter Teck\, Badenwürttemberg\, 73230\, Deutschland
CATEGORIES:RWK GK3
END:VEVENT
BEGIN:VEVENT
DTSTART;TZID=Europe/Berlin:20250521T190000
DTEND;TZID=Europe/Berlin:20250521T210000
DTSTAMP:20260423T134634
CREATED:20250325T192315Z
LAST-MODIFIED:20250325T192315Z
UID:6908-1747854000-1747861200@sv-tell-weilheim.de
SUMMARY:GK2 - 3ter Rundenwettkampf
DESCRIPTION:SV Weilheim/Teck 2 — SGi Frickenhausen 2
URL:https://sv-tell-weilheim.de/event/gk2-3ter-rundenwettkampf/
LOCATION:Schützenhaus Weilheim\, Birkenweg 8\, Weilheim an der Teck\, Badenwürttemberg\, 73235\, Deutschland
CATEGORIES:RWK GK2
END:VEVENT
BEGIN:VEVENT
DTSTART;TZID=Europe/Berlin:20250523T190000
DTEND;TZID=Europe/Berlin:20250523T210000
DTSTAMP:20260423T134634
CREATED:20250323T160246Z
LAST-MODIFIED:20250323T160246Z
UID:6874-1748026800-1748034000@sv-tell-weilheim.de
SUMMARY:GK1 - 3ter Rundenwettkampf
DESCRIPTION:Weilheim 1 — Wendlingen 2
URL:https://sv-tell-weilheim.de/event/gk1-3ter-rundenwettkampf/
LOCATION:Schützenhaus Weilheim\, Birkenweg 8\, Weilheim an der Teck\, Badenwürttemberg\, 73235\, Deutschland
CATEGORIES:RWK GK1
END:VEVENT
BEGIN:VEVENT
DTSTART;TZID=Europe/Berlin:20250529T100000
DTEND;TZID=Europe/Berlin:20250529T170000
DTSTAMP:20260423T134634
CREATED:20250418T074232Z
LAST-MODIFIED:20250418T074232Z
UID:7021-1748512800-1748538000@sv-tell-weilheim.de
SUMMARY:Königsgrillen
DESCRIPTION:Wie jedes Jahr findet am 29.05. das Königsgrillen statt. \nDer neue König und sein Gefolge lädt an diesem Tag zum gemütlichen Beisammensein ein um die\ntraditionelle Übergabe der der Königskette zu feiern. \nStart wird um 10.00 Uhr sein.
URL:https://sv-tell-weilheim.de/event/koenigsgrillen-2/
LOCATION:Schützenhaus Weilheim\, Birkenweg 8\, Weilheim an der Teck\, Badenwürttemberg\, 73235\, Deutschland
CATEGORIES:Schützenhaus Veranstaltungen
ATTACH;FMTTYPE=image/jpeg:https://sv-tell-weilheim.de/wp-content/uploads/2025/04/grilling-5235281_1920.jpg
END:VEVENT
END:VCALENDAR