BEGIN:VCALENDAR
VERSION:2.0
PRODID:-//SV Tell Weilheim - ECPv6.15.20//NONSGML v1.0//EN
CALSCALE:GREGORIAN
METHOD:PUBLISH
X-WR-CALNAME:SV Tell Weilheim
X-ORIGINAL-URL:https://sv-tell-weilheim.de
X-WR-CALDESC:Veranstaltungen für SV Tell Weilheim
REFRESH-INTERVAL;VALUE=DURATION:PT1H
X-Robots-Tag:noindex
X-PUBLISHED-TTL:PT1H
BEGIN:VTIMEZONE
TZID:Europe/Berlin
BEGIN:DAYLIGHT
TZOFFSETFROM:+0100
TZOFFSETTO:+0200
TZNAME:CEST
DTSTART:20240331T010000
END:DAYLIGHT
BEGIN:STANDARD
TZOFFSETFROM:+0200
TZOFFSETTO:+0100
TZNAME:CET
DTSTART:20241027T010000
END:STANDARD
BEGIN:DAYLIGHT
TZOFFSETFROM:+0100
TZOFFSETTO:+0200
TZNAME:CEST
DTSTART:20250330T010000
END:DAYLIGHT
BEGIN:STANDARD
TZOFFSETFROM:+0200
TZOFFSETTO:+0100
TZNAME:CET
DTSTART:20251026T010000
END:STANDARD
BEGIN:DAYLIGHT
TZOFFSETFROM:+0100
TZOFFSETTO:+0200
TZNAME:CEST
DTSTART:20260329T010000
END:DAYLIGHT
BEGIN:STANDARD
TZOFFSETFROM:+0200
TZOFFSETTO:+0100
TZNAME:CET
DTSTART:20261025T010000
END:STANDARD
END:VTIMEZONE
BEGIN:VEVENT
DTSTART;TZID=Europe/Berlin:20250207T190000
DTEND;TZID=Europe/Berlin:20250207T213000
DTSTAMP:20260423T185023
CREATED:20240911T135716Z
LAST-MODIFIED:20240911T135716Z
UID:6757-1738954800-1738963800@sv-tell-weilheim.de
SUMMARY:RWK LUPI 1
DESCRIPTION:SV Weilheim/Teck 2   gegen    SV Brucken
URL:https://sv-tell-weilheim.de/event/rwk-lupi-1-6/
LOCATION:Schützenhaus Weilheim\, Birkenweg 8\, Weilheim an der Teck\, Badenwürttemberg\, 73235\, Deutschland
CATEGORIES:RWK LUPI 1
END:VEVENT
BEGIN:VEVENT
DTSTART;TZID=Europe/Berlin:20250215T160000
DTEND;TZID=Europe/Berlin:20250215T190000
DTSTAMP:20260423T185023
CREATED:20240819T145531Z
LAST-MODIFIED:20240819T145715Z
UID:6685-1739635200-1739646000@sv-tell-weilheim.de
SUMMARY:RWK SPOPI 1
DESCRIPTION:SV Wendlingen 2   gegen  SV Tell Weilheim 1
URL:https://sv-tell-weilheim.de/event/rwk-spopi-1-5/
LOCATION:Schützenhaus Wendlingen\, An den Kiesgruben 36\, Wendlingen am Neckar\, 73240\, Deutschland
CATEGORIES:RWK SPOPI 1
END:VEVENT
BEGIN:VEVENT
DTSTART;TZID=Europe/Berlin:20250221T193000
DTEND;TZID=Europe/Berlin:20250221T213000
DTSTAMP:20260423T185023
CREATED:20240806T162722Z
LAST-MODIFIED:20240806T162722Z
UID:6668-1740166200-1740173400@sv-tell-weilheim.de
SUMMARY:RWK SPOPI 2
DESCRIPTION:SV Jesingen  gegen  SV Weilheim/Teck 2
URL:https://sv-tell-weilheim.de/event/rwk-spopi-2-5/
LOCATION:Jesingen Schützenverein\, Jesingen\, 73230\, Deutschland
CATEGORIES:RWK SPOPI 2
END:VEVENT
BEGIN:VEVENT
DTSTART;TZID=Europe/Berlin:20250222T180000
DTEND;TZID=Europe/Berlin:20250222T210000
DTSTAMP:20260423T185023
CREATED:20241228T131736Z
LAST-MODIFIED:20250214T150921Z
UID:6786-1740247200-1740258000@sv-tell-weilheim.de
SUMMARY:Schlachtfest
DESCRIPTION:Am 22.02.2025 ab 18:00 Uhr gibt´s im Schützenhaus in Weilheim Teck leckeres von der Schlachtplatte zum Essen\, auch zum mitnehmen. \nEs gibt Leber und Griebenwürste\, Kesselfleisch und Kraut sowie frisches Bier vom Fass\, natürlich alles aus der Region.
URL:https://sv-tell-weilheim.de/event/schlachtfest-2/
LOCATION:Schützenhaus Weilheim\, Birkenweg 8\, Weilheim an der Teck\, Badenwürttemberg\, 73235\, Deutschland
CATEGORIES:Schützenhaus Veranstaltungen
ATTACH;FMTTYPE=image/jpeg:https://sv-tell-weilheim.de/wp-content/uploads/2025/02/Edit.org_design_04-02-18-18.jpg
END:VEVENT
END:VCALENDAR