BEGIN:VCALENDAR
VERSION:2.0
PRODID:-//SV Tell Weilheim - ECPv6.15.20//NONSGML v1.0//EN
CALSCALE:GREGORIAN
METHOD:PUBLISH
X-ORIGINAL-URL:https://sv-tell-weilheim.de
X-WR-CALDESC:Veranstaltungen für SV Tell Weilheim
REFRESH-INTERVAL;VALUE=DURATION:PT1H
X-Robots-Tag:noindex
X-PUBLISHED-TTL:PT1H
BEGIN:VTIMEZONE
TZID:Europe/Berlin
BEGIN:DAYLIGHT
TZOFFSETFROM:+0100
TZOFFSETTO:+0200
TZNAME:CEST
DTSTART:20230326T010000
END:DAYLIGHT
BEGIN:STANDARD
TZOFFSETFROM:+0200
TZOFFSETTO:+0100
TZNAME:CET
DTSTART:20231029T010000
END:STANDARD
BEGIN:DAYLIGHT
TZOFFSETFROM:+0100
TZOFFSETTO:+0200
TZNAME:CEST
DTSTART:20240331T010000
END:DAYLIGHT
BEGIN:STANDARD
TZOFFSETFROM:+0200
TZOFFSETTO:+0100
TZNAME:CET
DTSTART:20241027T010000
END:STANDARD
BEGIN:DAYLIGHT
TZOFFSETFROM:+0100
TZOFFSETTO:+0200
TZNAME:CEST
DTSTART:20250330T010000
END:DAYLIGHT
BEGIN:STANDARD
TZOFFSETFROM:+0200
TZOFFSETTO:+0100
TZNAME:CET
DTSTART:20251026T010000
END:STANDARD
END:VTIMEZONE
BEGIN:VEVENT
DTSTART;TZID=Europe/Berlin:20241213T190000
DTEND;TZID=Europe/Berlin:20241213T213000
DTSTAMP:20260423T215743
CREATED:20240911T135154Z
LAST-MODIFIED:20240911T135204Z
UID:6752-1734116400-1734125400@sv-tell-weilheim.de
SUMMARY:RWK LUPI 1
DESCRIPTION:SV Dettingen/Teck 2   gegen  SV Weilheim/Teck 2
URL:https://sv-tell-weilheim.de/event/rwk-lupi-1-4/
LOCATION:Schützenverein Dettingen Teck\, Alte Bissinger Str. 84\, Dettingen unter Teck\, 73265
CATEGORIES:RWK LUPI 1
END:VEVENT
BEGIN:VEVENT
DTSTART;TZID=Europe/Berlin:20241218T190000
DTEND;TZID=Europe/Berlin:20241218T213000
DTSTAMP:20260423T215743
CREATED:20240819T144503Z
LAST-MODIFIED:20240819T144646Z
UID:6679-1734548400-1734557400@sv-tell-weilheim.de
SUMMARY:RWK SPOPI 1
DESCRIPTION:SV Tell Weilheim 1   gegen   TSV Ötlingen 3
URL:https://sv-tell-weilheim.de/event/6679/
LOCATION:Schützenhaus Weilheim\, Birkenweg 8\, Weilheim an der Teck\, Badenwürttemberg\, 73235\, Deutschland
CATEGORIES:RWK SPOPI 1
END:VEVENT
BEGIN:VEVENT
DTSTART;TZID=Europe/Berlin:20241222T093000
DTEND;TZID=Europe/Berlin:20241222T113000
DTSTAMP:20260423T215743
CREATED:20241014T062722Z
LAST-MODIFIED:20241014T062722Z
UID:6764-1734859800-1734867000@sv-tell-weilheim.de
SUMMARY:RWK SPOPI 2
DESCRIPTION:SV Oberlenningen 1 gegen  SV Weilheim/Teck 2
URL:https://sv-tell-weilheim.de/event/rwk-spopi-2-6/
LOCATION:Schützenhaus Oberlenningen\, Heerweg\, Lenningen\, Badenwürttemberg\, 73252
CATEGORIES:RWK SPOPI 2
END:VEVENT
BEGIN:VEVENT
DTSTART;TZID=Europe/Berlin:20241228T140000
DTEND;TZID=Europe/Berlin:20241228T233000
DTSTAMP:20260423T215743
CREATED:20241130T201418Z
LAST-MODIFIED:20241130T201626Z
UID:6775-1735394400-1735428600@sv-tell-weilheim.de
SUMMARY:Jahres Abschlussschießen
DESCRIPTION:An diesem Tag ist werden wir das vergangene Jahr mit einem spannendem Wettkampf\, gutem Essen und anschließender\nLivemusik ausklingen lassen. \nUm 14 Uhr beginnt unser internes Abschlussschießen zu dem jedes Vereinsmitglied herzlich\neingeladen ist. Nach dem spannenden Wettkampf\, mit mehreren Disziplinen\, werden wir vor dem Essen\nwas um ca. 17 Uhr beginnt die Siegerehrung durchführen. \nAnschließend wird mit guter Musik gefeiert!
URL:https://sv-tell-weilheim.de/event/jahres-abschlussschiessen-des-sv-tell-weilheim-teck/
LOCATION:Schützenhaus Weilheim\, Birkenweg 8\, Weilheim an der Teck\, Badenwürttemberg\, 73235\, Deutschland
CATEGORIES:Schützenhaus Veranstaltungen
END:VEVENT
END:VCALENDAR