BEGIN:VCALENDAR
VERSION:2.0
PRODID:-//SV Tell Weilheim - ECPv6.15.20//NONSGML v1.0//EN
CALSCALE:GREGORIAN
METHOD:PUBLISH
X-WR-CALNAME:SV Tell Weilheim
X-ORIGINAL-URL:https://sv-tell-weilheim.de
X-WR-CALDESC:Veranstaltungen für SV Tell Weilheim
REFRESH-INTERVAL;VALUE=DURATION:PT1H
X-Robots-Tag:noindex
X-PUBLISHED-TTL:PT1H
BEGIN:VTIMEZONE
TZID:Europe/Berlin
BEGIN:DAYLIGHT
TZOFFSETFROM:+0100
TZOFFSETTO:+0200
TZNAME:CEST
DTSTART:20230326T010000
END:DAYLIGHT
BEGIN:STANDARD
TZOFFSETFROM:+0200
TZOFFSETTO:+0100
TZNAME:CET
DTSTART:20231029T010000
END:STANDARD
BEGIN:DAYLIGHT
TZOFFSETFROM:+0100
TZOFFSETTO:+0200
TZNAME:CEST
DTSTART:20240331T010000
END:DAYLIGHT
BEGIN:STANDARD
TZOFFSETFROM:+0200
TZOFFSETTO:+0100
TZNAME:CET
DTSTART:20241027T010000
END:STANDARD
BEGIN:DAYLIGHT
TZOFFSETFROM:+0100
TZOFFSETTO:+0200
TZNAME:CEST
DTSTART:20250330T010000
END:DAYLIGHT
BEGIN:STANDARD
TZOFFSETFROM:+0200
TZOFFSETTO:+0100
TZNAME:CET
DTSTART:20251026T010000
END:STANDARD
END:VTIMEZONE
BEGIN:VEVENT
DTSTART;TZID=Europe/Berlin:20241104T193000
DTEND;TZID=Europe/Berlin:20241104T213000
DTSTAMP:20260423T232743
CREATED:20240911T134134Z
LAST-MODIFIED:20240911T134200Z
UID:6746-1730748600-1730755800@sv-tell-weilheim.de
SUMMARY:RWK LUPI 1
DESCRIPTION:SV Brucken   gegen  SV Weilheim/Teck 2
URL:https://sv-tell-weilheim.de/event/rwk-lupi-1-3/
LOCATION:Schützenverein SV Brucken\, Postweg 43\, Lenningen\, 73252
CATEGORIES:RWK LUPI 1
END:VEVENT
BEGIN:VEVENT
DTSTART;TZID=Europe/Berlin:20241109T130000
DTEND;TZID=Europe/Berlin:20241109T153000
DTSTAMP:20260423T232743
CREATED:20240708T094835Z
LAST-MODIFIED:20240708T101424Z
UID:6567-1731157200-1731166200@sv-tell-weilheim.de
SUMMARY:Schießstandreinigung
DESCRIPTION:Am 09.11.2024 findet von 13:00 – 15:30 die Generalreinigung der Schießstände statt. \n\n@ Eingeteilte Mitglieder:\nbitte pünktlich mit eigener persönlicher Schutzausrüstung da sein\n@ Gastschützen:\nSchießbetrieb ab 15:30 Uhr wieder möglich
URL:https://sv-tell-weilheim.de/event/schiessstandreiniung/
LOCATION:Schützenhaus Weilheim\, Birkenweg 8\, Weilheim an der Teck\, Badenwürttemberg\, 73235\, Deutschland
CATEGORIES:Schießstandreinigung
END:VEVENT
BEGIN:VEVENT
DTSTART;TZID=Europe/Berlin:20241109T180000
DTEND;TZID=Europe/Berlin:20241109T200000
DTSTAMP:20260423T232743
CREATED:20241105T163439Z
LAST-MODIFIED:20241105T163439Z
UID:6771-1731175200-1731182400@sv-tell-weilheim.de
SUMMARY:Schlachtfest
DESCRIPTION:Leckeres von der Schlachtplatte.
URL:https://sv-tell-weilheim.de/event/schlachtfest/
LOCATION:Schützenhaus Weilheim\, Birkenweg 8\, Weilheim an der Teck\, Badenwürttemberg\, 73235\, Deutschland
CATEGORIES:Schützenhaus Veranstaltungen
END:VEVENT
BEGIN:VEVENT
DTSTART;TZID=Europe/Berlin:20241113T190000
DTEND;TZID=Europe/Berlin:20241113T213000
DTSTAMP:20260423T232743
CREATED:20240819T144213Z
LAST-MODIFIED:20240819T144213Z
UID:6677-1731524400-1731533400@sv-tell-weilheim.de
SUMMARY:RWK SPOPI 1
DESCRIPTION:SV Tell Weilheim 1   gegen  SV Wendlingen 2
URL:https://sv-tell-weilheim.de/event/rwk-spopi-1-3/
LOCATION:Schützenhaus Weilheim\, Birkenweg 8\, Weilheim an der Teck\, Badenwürttemberg\, 73235\, Deutschland
CATEGORIES:RWK SPOPI 1
END:VEVENT
BEGIN:VEVENT
DTSTART;TZID=Europe/Berlin:20241115T190000
DTEND;TZID=Europe/Berlin:20241115T210000
DTSTAMP:20260423T232743
CREATED:20240806T161652Z
LAST-MODIFIED:20240806T161652Z
UID:6662-1731697200-1731704400@sv-tell-weilheim.de
SUMMARY:RWK SPOPI 2
DESCRIPTION:SV Weilheim/Teck 2  gegen  SV Jesingen
URL:https://sv-tell-weilheim.de/event/rwk-spopi-2-2/
LOCATION:Schützenhaus Weilheim\, Birkenweg 8\, Weilheim an der Teck\, Badenwürttemberg\, 73235\, Deutschland
CATEGORIES:RWK SPOPI 2
END:VEVENT
BEGIN:VEVENT
DTSTART;TZID=Europe/Berlin:20241117T093000
DTEND;TZID=Europe/Berlin:20241117T120000
DTSTAMP:20260423T232743
CREATED:20240709T103554Z
LAST-MODIFIED:20240712T141128Z
UID:6582-1731835800-1731844800@sv-tell-weilheim.de
SUMMARY:ENDE Vereinsmeisterschaften
DESCRIPTION:Ende der Vereinsmeisterschaften am\nSonntag den 17.11.2024. \nAbgabe der Laufzettel.
URL:https://sv-tell-weilheim.de/event/ende-vereinsmeisterschaften/
LOCATION:Schützenhaus Weilheim\, Birkenweg 8\, Weilheim an der Teck\, Badenwürttemberg\, 73235\, Deutschland
CATEGORIES:Vereinsinterne Wettkämpfe
END:VEVENT
END:VCALENDAR