BEGIN:VCALENDAR
VERSION:2.0
PRODID:-//SV Tell Weilheim - ECPv6.15.20//NONSGML v1.0//EN
CALSCALE:GREGORIAN
METHOD:PUBLISH
X-ORIGINAL-URL:https://sv-tell-weilheim.de
X-WR-CALDESC:Veranstaltungen für SV Tell Weilheim
REFRESH-INTERVAL;VALUE=DURATION:PT1H
X-Robots-Tag:noindex
X-PUBLISHED-TTL:PT1H
BEGIN:VTIMEZONE
TZID:Europe/Berlin
BEGIN:DAYLIGHT
TZOFFSETFROM:+0100
TZOFFSETTO:+0200
TZNAME:CEST
DTSTART:20230326T010000
END:DAYLIGHT
BEGIN:STANDARD
TZOFFSETFROM:+0200
TZOFFSETTO:+0100
TZNAME:CET
DTSTART:20231029T010000
END:STANDARD
BEGIN:DAYLIGHT
TZOFFSETFROM:+0100
TZOFFSETTO:+0200
TZNAME:CEST
DTSTART:20240331T010000
END:DAYLIGHT
BEGIN:STANDARD
TZOFFSETFROM:+0200
TZOFFSETTO:+0100
TZNAME:CET
DTSTART:20241027T010000
END:STANDARD
BEGIN:DAYLIGHT
TZOFFSETFROM:+0100
TZOFFSETTO:+0200
TZNAME:CEST
DTSTART:20250330T010000
END:DAYLIGHT
BEGIN:STANDARD
TZOFFSETFROM:+0200
TZOFFSETTO:+0100
TZNAME:CET
DTSTART:20251026T010000
END:STANDARD
END:VTIMEZONE
BEGIN:VEVENT
DTSTART;TZID=Europe/Berlin:20240503T190000
DTEND;TZID=Europe/Berlin:20240503T210000
DTSTAMP:20260424T090006
CREATED:20240306T183447Z
LAST-MODIFIED:20240306T183447Z
UID:5865-1714762800-1714770000@sv-tell-weilheim.de
SUMMARY:RWK GK1
DESCRIPTION:Weilheim\nvs \nNeuffen
URL:https://sv-tell-weilheim.de/event/rwk-gk1/
LOCATION:Schützenhaus Weilheim\, Birkenweg 8\, Weilheim an der Teck\, Badenwürttemberg\, 73235\, Deutschland
CATEGORIES:RWK GK1
END:VEVENT
BEGIN:VEVENT
DTSTART;VALUE=DATE:20240509
DTEND;VALUE=DATE:20240510
DTSTAMP:20260424T090006
CREATED:20240423T153224Z
LAST-MODIFIED:20240423T153600Z
UID:6107-1715212800-1715299199@sv-tell-weilheim.de
SUMMARY:Königsgrillen
DESCRIPTION:Der König und sein Gefolge laden zum Grillen. \n 
URL:https://sv-tell-weilheim.de/event/koenigsgrillen/
LOCATION:Schützenhaus Weilheim\, Birkenweg 8\, Weilheim an der Teck\, Badenwürttemberg\, 73235\, Deutschland
CATEGORIES:Schützenhaus Veranstaltungen
END:VEVENT
BEGIN:VEVENT
DTSTART;TZID=Europe/Berlin:20240515T190000
DTEND;TZID=Europe/Berlin:20240515T210000
DTSTAMP:20260424T090006
CREATED:20240404T132904Z
LAST-MODIFIED:20240404T132904Z
UID:6072-1715799600-1715806800@sv-tell-weilheim.de
SUMMARY:RWK GK2
DESCRIPTION:Weilheim 2\nvs \nSV Wendlingen 3
URL:https://sv-tell-weilheim.de/event/rwk-gk2/
LOCATION:Schützenhaus Weilheim\, Birkenweg 8\, Weilheim an der Teck\, Badenwürttemberg\, 73235\, Deutschland
CATEGORIES:RWK GK2
END:VEVENT
BEGIN:VEVENT
DTSTART;TZID=Europe/Berlin:20240517T190000
DTEND;TZID=Europe/Berlin:20240517T210000
DTSTAMP:20260424T090006
CREATED:20240407T141351Z
LAST-MODIFIED:20240407T142532Z
UID:6084-1715972400-1715979600@sv-tell-weilheim.de
SUMMARY:RWK GK3
DESCRIPTION:Weilheim 3\nvs \nTSV Ötlingen
URL:https://sv-tell-weilheim.de/event/6084/
LOCATION:Schützenhaus Weilheim\, Birkenweg 8\, Weilheim an der Teck\, Badenwürttemberg\, 73235\, Deutschland
CATEGORIES:RWK GK3
END:VEVENT
BEGIN:VEVENT
DTSTART;TZID=Europe/Berlin:20240524T210000
DTEND;TZID=Europe/Berlin:20240524T230000
DTSTAMP:20260424T090006
CREATED:20240306T183649Z
LAST-MODIFIED:20240306T183649Z
UID:5867-1716584400-1716591600@sv-tell-weilheim.de
SUMMARY:RWK GK1
DESCRIPTION:Weilheim\nvs \nNeckartenzlingen
URL:https://sv-tell-weilheim.de/event/rwk-gk1-2/
LOCATION:Schützenhaus Weilheim\, Birkenweg 8\, Weilheim an der Teck\, Badenwürttemberg\, 73235\, Deutschland
CATEGORIES:RWK GK1
END:VEVENT
END:VCALENDAR